BEGIN:VCALENDAR
VERSION:2.0
PRODID:-//Homicide Survivors Inc - ECPv6.15.20//NONSGML v1.0//EN
CALSCALE:GREGORIAN
METHOD:PUBLISH
X-WR-CALNAME:Homicide Survivors Inc
X-ORIGINAL-URL:https://homicidesurvivorsinc.org
X-WR-CALDESC:Events for Homicide Survivors Inc
REFRESH-INTERVAL;VALUE=DURATION:PT1H
X-Robots-Tag:noindex
X-PUBLISHED-TTL:PT1H
BEGIN:VTIMEZONE
TZID:America/Phoenix
BEGIN:STANDARD
TZOFFSETFROM:-0700
TZOFFSETTO:-0700
TZNAME:MST
DTSTART:20250101T000000
END:STANDARD
END:VTIMEZONE
BEGIN:VEVENT
DTSTART;TZID=America/Phoenix:20260514T170000
DTEND;TZID=America/Phoenix:20260514T183000
DTSTAMP:20260423T034742
CREATED:20230601T234232Z
LAST-MODIFIED:20230601T234239Z
UID:10000445-1778778000-1778783400@homicidesurvivorsinc.org
SUMMARY:Grupo de Apoyo
DESCRIPTION:Los grupos de apoyo de Homicide Survivors\, Inc. son para los seres queridos de las víctimas de homicidio\, incluidos los accidentes de conducción en estado de ebriedad y los homicidios sin resolver. Nuestros servicios son gratuitos para los sobrevivientes. \nNuestro grupo de apoyo es en persona. Haga clic en el enlace para registrarse y obtener más información: homicidesurvivorsinc.org/spanish-support-group
URL:https://homicidesurvivorsinc.org/hsi-events/grupo-de-apoyo/2026-05-14/
LOCATION:En Persona
CATEGORIES:Support Group
ATTACH;FMTTYPE=image/jpeg:https://homicidesurvivorsinc.org/wp-content/uploads/2022/10/spanish-in-person-SG-1.jpg
END:VEVENT
BEGIN:VEVENT
DTSTART;TZID=America/Phoenix:20260611T170000
DTEND;TZID=America/Phoenix:20260611T183000
DTSTAMP:20260423T034742
CREATED:20230601T234232Z
LAST-MODIFIED:20230601T234239Z
UID:10000446-1781197200-1781202600@homicidesurvivorsinc.org
SUMMARY:Grupo de Apoyo
DESCRIPTION:Los grupos de apoyo de Homicide Survivors\, Inc. son para los seres queridos de las víctimas de homicidio\, incluidos los accidentes de conducción en estado de ebriedad y los homicidios sin resolver. Nuestros servicios son gratuitos para los sobrevivientes. \nNuestro grupo de apoyo es en persona. Haga clic en el enlace para registrarse y obtener más información: homicidesurvivorsinc.org/spanish-support-group
URL:https://homicidesurvivorsinc.org/hsi-events/grupo-de-apoyo/2026-06-11/
LOCATION:En Persona
CATEGORIES:Support Group
ATTACH;FMTTYPE=image/jpeg:https://homicidesurvivorsinc.org/wp-content/uploads/2022/10/spanish-in-person-SG-1.jpg
END:VEVENT
BEGIN:VEVENT
DTSTART;TZID=America/Phoenix:20260709T170000
DTEND;TZID=America/Phoenix:20260709T183000
DTSTAMP:20260423T034742
CREATED:20230601T234232Z
LAST-MODIFIED:20230601T234239Z
UID:10000447-1783616400-1783621800@homicidesurvivorsinc.org
SUMMARY:Grupo de Apoyo
DESCRIPTION:Los grupos de apoyo de Homicide Survivors\, Inc. son para los seres queridos de las víctimas de homicidio\, incluidos los accidentes de conducción en estado de ebriedad y los homicidios sin resolver. Nuestros servicios son gratuitos para los sobrevivientes. \nNuestro grupo de apoyo es en persona. Haga clic en el enlace para registrarse y obtener más información: homicidesurvivorsinc.org/spanish-support-group
URL:https://homicidesurvivorsinc.org/hsi-events/grupo-de-apoyo/2026-07-09/
LOCATION:En Persona
CATEGORIES:Support Group
ATTACH;FMTTYPE=image/jpeg:https://homicidesurvivorsinc.org/wp-content/uploads/2022/10/spanish-in-person-SG-1.jpg
END:VEVENT
BEGIN:VEVENT
DTSTART;TZID=America/Phoenix:20260813T170000
DTEND;TZID=America/Phoenix:20260813T183000
DTSTAMP:20260423T034742
CREATED:20230601T234232Z
LAST-MODIFIED:20230601T234239Z
UID:10000448-1786640400-1786645800@homicidesurvivorsinc.org
SUMMARY:Grupo de Apoyo
DESCRIPTION:Los grupos de apoyo de Homicide Survivors\, Inc. son para los seres queridos de las víctimas de homicidio\, incluidos los accidentes de conducción en estado de ebriedad y los homicidios sin resolver. Nuestros servicios son gratuitos para los sobrevivientes. \nNuestro grupo de apoyo es en persona. Haga clic en el enlace para registrarse y obtener más información: homicidesurvivorsinc.org/spanish-support-group
URL:https://homicidesurvivorsinc.org/hsi-events/grupo-de-apoyo/2026-08-13/
LOCATION:En Persona
CATEGORIES:Support Group
ATTACH;FMTTYPE=image/jpeg:https://homicidesurvivorsinc.org/wp-content/uploads/2022/10/spanish-in-person-SG-1.jpg
END:VEVENT
BEGIN:VEVENT
DTSTART;TZID=America/Phoenix:20260910T170000
DTEND;TZID=America/Phoenix:20260910T183000
DTSTAMP:20260423T034742
CREATED:20230601T234232Z
LAST-MODIFIED:20230601T234239Z
UID:10000449-1789059600-1789065000@homicidesurvivorsinc.org
SUMMARY:Grupo de Apoyo
DESCRIPTION:Los grupos de apoyo de Homicide Survivors\, Inc. son para los seres queridos de las víctimas de homicidio\, incluidos los accidentes de conducción en estado de ebriedad y los homicidios sin resolver. Nuestros servicios son gratuitos para los sobrevivientes. \nNuestro grupo de apoyo es en persona. Haga clic en el enlace para registrarse y obtener más información: homicidesurvivorsinc.org/spanish-support-group
URL:https://homicidesurvivorsinc.org/hsi-events/grupo-de-apoyo/2026-09-10/
LOCATION:En Persona
CATEGORIES:Support Group
ATTACH;FMTTYPE=image/jpeg:https://homicidesurvivorsinc.org/wp-content/uploads/2022/10/spanish-in-person-SG-1.jpg
END:VEVENT
BEGIN:VEVENT
DTSTART;TZID=America/Phoenix:20261008T170000
DTEND;TZID=America/Phoenix:20261008T183000
DTSTAMP:20260423T034742
CREATED:20230601T234232Z
LAST-MODIFIED:20230601T234239Z
UID:10000450-1791478800-1791484200@homicidesurvivorsinc.org
SUMMARY:Grupo de Apoyo
DESCRIPTION:Los grupos de apoyo de Homicide Survivors\, Inc. son para los seres queridos de las víctimas de homicidio\, incluidos los accidentes de conducción en estado de ebriedad y los homicidios sin resolver. Nuestros servicios son gratuitos para los sobrevivientes. \nNuestro grupo de apoyo es en persona. Haga clic en el enlace para registrarse y obtener más información: homicidesurvivorsinc.org/spanish-support-group
URL:https://homicidesurvivorsinc.org/hsi-events/grupo-de-apoyo/2026-10-08/
LOCATION:En Persona
CATEGORIES:Support Group
ATTACH;FMTTYPE=image/jpeg:https://homicidesurvivorsinc.org/wp-content/uploads/2022/10/spanish-in-person-SG-1.jpg
END:VEVENT
BEGIN:VEVENT
DTSTART;TZID=America/Phoenix:20261112T170000
DTEND;TZID=America/Phoenix:20261112T183000
DTSTAMP:20260423T034742
CREATED:20230601T234232Z
LAST-MODIFIED:20230601T234239Z
UID:10000451-1794502800-1794508200@homicidesurvivorsinc.org
SUMMARY:Grupo de Apoyo
DESCRIPTION:Los grupos de apoyo de Homicide Survivors\, Inc. son para los seres queridos de las víctimas de homicidio\, incluidos los accidentes de conducción en estado de ebriedad y los homicidios sin resolver. Nuestros servicios son gratuitos para los sobrevivientes. \nNuestro grupo de apoyo es en persona. Haga clic en el enlace para registrarse y obtener más información: homicidesurvivorsinc.org/spanish-support-group
URL:https://homicidesurvivorsinc.org/hsi-events/grupo-de-apoyo/2026-11-12/
LOCATION:En Persona
CATEGORIES:Support Group
ATTACH;FMTTYPE=image/jpeg:https://homicidesurvivorsinc.org/wp-content/uploads/2022/10/spanish-in-person-SG-1.jpg
END:VEVENT
BEGIN:VEVENT
DTSTART;TZID=America/Phoenix:20261210T170000
DTEND;TZID=America/Phoenix:20261210T183000
DTSTAMP:20260423T034742
CREATED:20230601T234232Z
LAST-MODIFIED:20230601T234239Z
UID:10000452-1796922000-1796927400@homicidesurvivorsinc.org
SUMMARY:Grupo de Apoyo
DESCRIPTION:Los grupos de apoyo de Homicide Survivors\, Inc. son para los seres queridos de las víctimas de homicidio\, incluidos los accidentes de conducción en estado de ebriedad y los homicidios sin resolver. Nuestros servicios son gratuitos para los sobrevivientes. \nNuestro grupo de apoyo es en persona. Haga clic en el enlace para registrarse y obtener más información: homicidesurvivorsinc.org/spanish-support-group
URL:https://homicidesurvivorsinc.org/hsi-events/grupo-de-apoyo/2026-12-10/
LOCATION:En Persona
CATEGORIES:Support Group
ATTACH;FMTTYPE=image/jpeg:https://homicidesurvivorsinc.org/wp-content/uploads/2022/10/spanish-in-person-SG-1.jpg
END:VEVENT
BEGIN:VEVENT
DTSTART;TZID=America/Phoenix:20270114T170000
DTEND;TZID=America/Phoenix:20270114T183000
DTSTAMP:20260423T034742
CREATED:20230601T234232Z
LAST-MODIFIED:20230601T234239Z
UID:10000453-1799946000-1799951400@homicidesurvivorsinc.org
SUMMARY:Grupo de Apoyo
DESCRIPTION:Los grupos de apoyo de Homicide Survivors\, Inc. son para los seres queridos de las víctimas de homicidio\, incluidos los accidentes de conducción en estado de ebriedad y los homicidios sin resolver. Nuestros servicios son gratuitos para los sobrevivientes. \nNuestro grupo de apoyo es en persona. Haga clic en el enlace para registrarse y obtener más información: homicidesurvivorsinc.org/spanish-support-group
URL:https://homicidesurvivorsinc.org/hsi-events/grupo-de-apoyo/2027-01-14/
LOCATION:En Persona
CATEGORIES:Support Group
ATTACH;FMTTYPE=image/jpeg:https://homicidesurvivorsinc.org/wp-content/uploads/2022/10/spanish-in-person-SG-1.jpg
END:VEVENT
BEGIN:VEVENT
DTSTART;TZID=America/Phoenix:20270211T170000
DTEND;TZID=America/Phoenix:20270211T183000
DTSTAMP:20260423T034742
CREATED:20230601T234232Z
LAST-MODIFIED:20230601T234239Z
UID:10000454-1802365200-1802370600@homicidesurvivorsinc.org
SUMMARY:Grupo de Apoyo
DESCRIPTION:Los grupos de apoyo de Homicide Survivors\, Inc. son para los seres queridos de las víctimas de homicidio\, incluidos los accidentes de conducción en estado de ebriedad y los homicidios sin resolver. Nuestros servicios son gratuitos para los sobrevivientes. \nNuestro grupo de apoyo es en persona. Haga clic en el enlace para registrarse y obtener más información: homicidesurvivorsinc.org/spanish-support-group
URL:https://homicidesurvivorsinc.org/hsi-events/grupo-de-apoyo/2027-02-11/
LOCATION:En Persona
CATEGORIES:Support Group
ATTACH;FMTTYPE=image/jpeg:https://homicidesurvivorsinc.org/wp-content/uploads/2022/10/spanish-in-person-SG-1.jpg
END:VEVENT
BEGIN:VEVENT
DTSTART;TZID=America/Phoenix:20270311T170000
DTEND;TZID=America/Phoenix:20270311T183000
DTSTAMP:20260423T034742
CREATED:20230601T234232Z
LAST-MODIFIED:20230601T234239Z
UID:10000455-1804784400-1804789800@homicidesurvivorsinc.org
SUMMARY:Grupo de Apoyo
DESCRIPTION:Los grupos de apoyo de Homicide Survivors\, Inc. son para los seres queridos de las víctimas de homicidio\, incluidos los accidentes de conducción en estado de ebriedad y los homicidios sin resolver. Nuestros servicios son gratuitos para los sobrevivientes. \nNuestro grupo de apoyo es en persona. Haga clic en el enlace para registrarse y obtener más información: homicidesurvivorsinc.org/spanish-support-group
URL:https://homicidesurvivorsinc.org/hsi-events/grupo-de-apoyo/2027-03-11/
LOCATION:En Persona
CATEGORIES:Support Group
ATTACH;FMTTYPE=image/jpeg:https://homicidesurvivorsinc.org/wp-content/uploads/2022/10/spanish-in-person-SG-1.jpg
END:VEVENT
BEGIN:VEVENT
DTSTART;TZID=America/Phoenix:20270408T170000
DTEND;TZID=America/Phoenix:20270408T183000
DTSTAMP:20260423T034742
CREATED:20230601T234232Z
LAST-MODIFIED:20230601T234239Z
UID:10000456-1807203600-1807209000@homicidesurvivorsinc.org
SUMMARY:Grupo de Apoyo
DESCRIPTION:Los grupos de apoyo de Homicide Survivors\, Inc. son para los seres queridos de las víctimas de homicidio\, incluidos los accidentes de conducción en estado de ebriedad y los homicidios sin resolver. Nuestros servicios son gratuitos para los sobrevivientes. \nNuestro grupo de apoyo es en persona. Haga clic en el enlace para registrarse y obtener más información: homicidesurvivorsinc.org/spanish-support-group
URL:https://homicidesurvivorsinc.org/hsi-events/grupo-de-apoyo/2027-04-08/
LOCATION:En Persona
CATEGORIES:Support Group
ATTACH;FMTTYPE=image/jpeg:https://homicidesurvivorsinc.org/wp-content/uploads/2022/10/spanish-in-person-SG-1.jpg
END:VEVENT
BEGIN:VEVENT
DTSTART;TZID=America/Phoenix:20270513T170000
DTEND;TZID=America/Phoenix:20270513T183000
DTSTAMP:20260423T034742
CREATED:20230601T234232Z
LAST-MODIFIED:20230601T234239Z
UID:10000457-1810227600-1810233000@homicidesurvivorsinc.org
SUMMARY:Grupo de Apoyo
DESCRIPTION:Los grupos de apoyo de Homicide Survivors\, Inc. son para los seres queridos de las víctimas de homicidio\, incluidos los accidentes de conducción en estado de ebriedad y los homicidios sin resolver. Nuestros servicios son gratuitos para los sobrevivientes. \nNuestro grupo de apoyo es en persona. Haga clic en el enlace para registrarse y obtener más información: homicidesurvivorsinc.org/spanish-support-group
URL:https://homicidesurvivorsinc.org/hsi-events/grupo-de-apoyo/2027-05-13/
LOCATION:En Persona
CATEGORIES:Support Group
ATTACH;FMTTYPE=image/jpeg:https://homicidesurvivorsinc.org/wp-content/uploads/2022/10/spanish-in-person-SG-1.jpg
END:VEVENT
BEGIN:VEVENT
DTSTART;TZID=America/Phoenix:20270610T170000
DTEND;TZID=America/Phoenix:20270610T183000
DTSTAMP:20260423T034742
CREATED:20230601T234232Z
LAST-MODIFIED:20230601T234239Z
UID:10000458-1812646800-1812652200@homicidesurvivorsinc.org
SUMMARY:Grupo de Apoyo
DESCRIPTION:Los grupos de apoyo de Homicide Survivors\, Inc. son para los seres queridos de las víctimas de homicidio\, incluidos los accidentes de conducción en estado de ebriedad y los homicidios sin resolver. Nuestros servicios son gratuitos para los sobrevivientes. \nNuestro grupo de apoyo es en persona. Haga clic en el enlace para registrarse y obtener más información: homicidesurvivorsinc.org/spanish-support-group
URL:https://homicidesurvivorsinc.org/hsi-events/grupo-de-apoyo/2027-06-10/
LOCATION:En Persona
CATEGORIES:Support Group
ATTACH;FMTTYPE=image/jpeg:https://homicidesurvivorsinc.org/wp-content/uploads/2022/10/spanish-in-person-SG-1.jpg
END:VEVENT
BEGIN:VEVENT
DTSTART;TZID=America/Phoenix:20270708T170000
DTEND;TZID=America/Phoenix:20270708T183000
DTSTAMP:20260423T034742
CREATED:20230601T234232Z
LAST-MODIFIED:20230601T234239Z
UID:10000459-1815066000-1815071400@homicidesurvivorsinc.org
SUMMARY:Grupo de Apoyo
DESCRIPTION:Los grupos de apoyo de Homicide Survivors\, Inc. son para los seres queridos de las víctimas de homicidio\, incluidos los accidentes de conducción en estado de ebriedad y los homicidios sin resolver. Nuestros servicios son gratuitos para los sobrevivientes. \nNuestro grupo de apoyo es en persona. Haga clic en el enlace para registrarse y obtener más información: homicidesurvivorsinc.org/spanish-support-group
URL:https://homicidesurvivorsinc.org/hsi-events/grupo-de-apoyo/2027-07-08/
LOCATION:En Persona
CATEGORIES:Support Group
ATTACH;FMTTYPE=image/jpeg:https://homicidesurvivorsinc.org/wp-content/uploads/2022/10/spanish-in-person-SG-1.jpg
END:VEVENT
BEGIN:VEVENT
DTSTART;TZID=America/Phoenix:20270812T170000
DTEND;TZID=America/Phoenix:20270812T183000
DTSTAMP:20260423T034742
CREATED:20230601T234232Z
LAST-MODIFIED:20230601T234239Z
UID:10000460-1818090000-1818095400@homicidesurvivorsinc.org
SUMMARY:Grupo de Apoyo
DESCRIPTION:Los grupos de apoyo de Homicide Survivors\, Inc. son para los seres queridos de las víctimas de homicidio\, incluidos los accidentes de conducción en estado de ebriedad y los homicidios sin resolver. Nuestros servicios son gratuitos para los sobrevivientes. \nNuestro grupo de apoyo es en persona. Haga clic en el enlace para registrarse y obtener más información: homicidesurvivorsinc.org/spanish-support-group
URL:https://homicidesurvivorsinc.org/hsi-events/grupo-de-apoyo/2027-08-12/
LOCATION:En Persona
CATEGORIES:Support Group
ATTACH;FMTTYPE=image/jpeg:https://homicidesurvivorsinc.org/wp-content/uploads/2022/10/spanish-in-person-SG-1.jpg
END:VEVENT
BEGIN:VEVENT
DTSTART;TZID=America/Phoenix:20270909T170000
DTEND;TZID=America/Phoenix:20270909T183000
DTSTAMP:20260423T034742
CREATED:20230601T234232Z
LAST-MODIFIED:20230601T234239Z
UID:10000461-1820509200-1820514600@homicidesurvivorsinc.org
SUMMARY:Grupo de Apoyo
DESCRIPTION:Los grupos de apoyo de Homicide Survivors\, Inc. son para los seres queridos de las víctimas de homicidio\, incluidos los accidentes de conducción en estado de ebriedad y los homicidios sin resolver. Nuestros servicios son gratuitos para los sobrevivientes. \nNuestro grupo de apoyo es en persona. Haga clic en el enlace para registrarse y obtener más información: homicidesurvivorsinc.org/spanish-support-group
URL:https://homicidesurvivorsinc.org/hsi-events/grupo-de-apoyo/2027-09-09/
LOCATION:En Persona
CATEGORIES:Support Group
ATTACH;FMTTYPE=image/jpeg:https://homicidesurvivorsinc.org/wp-content/uploads/2022/10/spanish-in-person-SG-1.jpg
END:VEVENT
BEGIN:VEVENT
DTSTART;TZID=America/Phoenix:20271014T170000
DTEND;TZID=America/Phoenix:20271014T183000
DTSTAMP:20260423T034742
CREATED:20230601T234232Z
LAST-MODIFIED:20230601T234239Z
UID:10000462-1823533200-1823538600@homicidesurvivorsinc.org
SUMMARY:Grupo de Apoyo
DESCRIPTION:Los grupos de apoyo de Homicide Survivors\, Inc. son para los seres queridos de las víctimas de homicidio\, incluidos los accidentes de conducción en estado de ebriedad y los homicidios sin resolver. Nuestros servicios son gratuitos para los sobrevivientes. \nNuestro grupo de apoyo es en persona. Haga clic en el enlace para registrarse y obtener más información: homicidesurvivorsinc.org/spanish-support-group
URL:https://homicidesurvivorsinc.org/hsi-events/grupo-de-apoyo/2027-10-14/
LOCATION:En Persona
CATEGORIES:Support Group
ATTACH;FMTTYPE=image/jpeg:https://homicidesurvivorsinc.org/wp-content/uploads/2022/10/spanish-in-person-SG-1.jpg
END:VEVENT
BEGIN:VEVENT
DTSTART;TZID=America/Phoenix:20271111T170000
DTEND;TZID=America/Phoenix:20271111T183000
DTSTAMP:20260423T034742
CREATED:20230601T234232Z
LAST-MODIFIED:20230601T234239Z
UID:10000463-1825952400-1825957800@homicidesurvivorsinc.org
SUMMARY:Grupo de Apoyo
DESCRIPTION:Los grupos de apoyo de Homicide Survivors\, Inc. son para los seres queridos de las víctimas de homicidio\, incluidos los accidentes de conducción en estado de ebriedad y los homicidios sin resolver. Nuestros servicios son gratuitos para los sobrevivientes. \nNuestro grupo de apoyo es en persona. Haga clic en el enlace para registrarse y obtener más información: homicidesurvivorsinc.org/spanish-support-group
URL:https://homicidesurvivorsinc.org/hsi-events/grupo-de-apoyo/2027-11-11/
LOCATION:En Persona
CATEGORIES:Support Group
ATTACH;FMTTYPE=image/jpeg:https://homicidesurvivorsinc.org/wp-content/uploads/2022/10/spanish-in-person-SG-1.jpg
END:VEVENT
BEGIN:VEVENT
DTSTART;TZID=America/Phoenix:20271209T170000
DTEND;TZID=America/Phoenix:20271209T183000
DTSTAMP:20260423T034742
CREATED:20230601T234232Z
LAST-MODIFIED:20230601T234239Z
UID:10000464-1828371600-1828377000@homicidesurvivorsinc.org
SUMMARY:Grupo de Apoyo
DESCRIPTION:Los grupos de apoyo de Homicide Survivors\, Inc. son para los seres queridos de las víctimas de homicidio\, incluidos los accidentes de conducción en estado de ebriedad y los homicidios sin resolver. Nuestros servicios son gratuitos para los sobrevivientes. \nNuestro grupo de apoyo es en persona. Haga clic en el enlace para registrarse y obtener más información: homicidesurvivorsinc.org/spanish-support-group
URL:https://homicidesurvivorsinc.org/hsi-events/grupo-de-apoyo/2027-12-09/
LOCATION:En Persona
CATEGORIES:Support Group
ATTACH;FMTTYPE=image/jpeg:https://homicidesurvivorsinc.org/wp-content/uploads/2022/10/spanish-in-person-SG-1.jpg
END:VEVENT
BEGIN:VEVENT
DTSTART;TZID=America/Phoenix:20280113T170000
DTEND;TZID=America/Phoenix:20280113T183000
DTSTAMP:20260423T034742
CREATED:20230601T234232Z
LAST-MODIFIED:20230601T234239Z
UID:10000465-1831395600-1831401000@homicidesurvivorsinc.org
SUMMARY:Grupo de Apoyo
DESCRIPTION:Los grupos de apoyo de Homicide Survivors\, Inc. son para los seres queridos de las víctimas de homicidio\, incluidos los accidentes de conducción en estado de ebriedad y los homicidios sin resolver. Nuestros servicios son gratuitos para los sobrevivientes. \nNuestro grupo de apoyo es en persona. Haga clic en el enlace para registrarse y obtener más información: homicidesurvivorsinc.org/spanish-support-group
URL:https://homicidesurvivorsinc.org/hsi-events/grupo-de-apoyo/2028-01-13/
LOCATION:En Persona
CATEGORIES:Support Group
ATTACH;FMTTYPE=image/jpeg:https://homicidesurvivorsinc.org/wp-content/uploads/2022/10/spanish-in-person-SG-1.jpg
END:VEVENT
BEGIN:VEVENT
DTSTART;TZID=America/Phoenix:20280210T170000
DTEND;TZID=America/Phoenix:20280210T183000
DTSTAMP:20260423T034742
CREATED:20230601T234232Z
LAST-MODIFIED:20230601T234239Z
UID:10000466-1833814800-1833820200@homicidesurvivorsinc.org
SUMMARY:Grupo de Apoyo
DESCRIPTION:Los grupos de apoyo de Homicide Survivors\, Inc. son para los seres queridos de las víctimas de homicidio\, incluidos los accidentes de conducción en estado de ebriedad y los homicidios sin resolver. Nuestros servicios son gratuitos para los sobrevivientes. \nNuestro grupo de apoyo es en persona. Haga clic en el enlace para registrarse y obtener más información: homicidesurvivorsinc.org/spanish-support-group
URL:https://homicidesurvivorsinc.org/hsi-events/grupo-de-apoyo/2028-02-10/
LOCATION:En Persona
CATEGORIES:Support Group
ATTACH;FMTTYPE=image/jpeg:https://homicidesurvivorsinc.org/wp-content/uploads/2022/10/spanish-in-person-SG-1.jpg
END:VEVENT
BEGIN:VEVENT
DTSTART;TZID=America/Phoenix:20280309T170000
DTEND;TZID=America/Phoenix:20280309T183000
DTSTAMP:20260423T034742
CREATED:20230601T234232Z
LAST-MODIFIED:20230601T234239Z
UID:10000467-1836234000-1836239400@homicidesurvivorsinc.org
SUMMARY:Grupo de Apoyo
DESCRIPTION:Los grupos de apoyo de Homicide Survivors\, Inc. son para los seres queridos de las víctimas de homicidio\, incluidos los accidentes de conducción en estado de ebriedad y los homicidios sin resolver. Nuestros servicios son gratuitos para los sobrevivientes. \nNuestro grupo de apoyo es en persona. Haga clic en el enlace para registrarse y obtener más información: homicidesurvivorsinc.org/spanish-support-group
URL:https://homicidesurvivorsinc.org/hsi-events/grupo-de-apoyo/2028-03-09/
LOCATION:En Persona
CATEGORIES:Support Group
ATTACH;FMTTYPE=image/jpeg:https://homicidesurvivorsinc.org/wp-content/uploads/2022/10/spanish-in-person-SG-1.jpg
END:VEVENT
BEGIN:VEVENT
DTSTART;TZID=America/Phoenix:20280413T170000
DTEND;TZID=America/Phoenix:20280413T183000
DTSTAMP:20260423T034742
CREATED:20230601T234232Z
LAST-MODIFIED:20230601T234239Z
UID:10000468-1839258000-1839263400@homicidesurvivorsinc.org
SUMMARY:Grupo de Apoyo
DESCRIPTION:Los grupos de apoyo de Homicide Survivors\, Inc. son para los seres queridos de las víctimas de homicidio\, incluidos los accidentes de conducción en estado de ebriedad y los homicidios sin resolver. Nuestros servicios son gratuitos para los sobrevivientes. \nNuestro grupo de apoyo es en persona. Haga clic en el enlace para registrarse y obtener más información: homicidesurvivorsinc.org/spanish-support-group
URL:https://homicidesurvivorsinc.org/hsi-events/grupo-de-apoyo/2028-04-13/
LOCATION:En Persona
CATEGORIES:Support Group
ATTACH;FMTTYPE=image/jpeg:https://homicidesurvivorsinc.org/wp-content/uploads/2022/10/spanish-in-person-SG-1.jpg
END:VEVENT
BEGIN:VEVENT
DTSTART;TZID=America/Phoenix:20280511T170000
DTEND;TZID=America/Phoenix:20280511T183000
DTSTAMP:20260423T034742
CREATED:20230601T234232Z
LAST-MODIFIED:20230601T234239Z
UID:10000469-1841677200-1841682600@homicidesurvivorsinc.org
SUMMARY:Grupo de Apoyo
DESCRIPTION:Los grupos de apoyo de Homicide Survivors\, Inc. son para los seres queridos de las víctimas de homicidio\, incluidos los accidentes de conducción en estado de ebriedad y los homicidios sin resolver. Nuestros servicios son gratuitos para los sobrevivientes. \nNuestro grupo de apoyo es en persona. Haga clic en el enlace para registrarse y obtener más información: homicidesurvivorsinc.org/spanish-support-group
URL:https://homicidesurvivorsinc.org/hsi-events/grupo-de-apoyo/2028-05-11/
LOCATION:En Persona
CATEGORIES:Support Group
ATTACH;FMTTYPE=image/jpeg:https://homicidesurvivorsinc.org/wp-content/uploads/2022/10/spanish-in-person-SG-1.jpg
END:VEVENT
BEGIN:VEVENT
DTSTART;TZID=America/Phoenix:20280608T170000
DTEND;TZID=America/Phoenix:20280608T183000
DTSTAMP:20260423T034742
CREATED:20230601T234232Z
LAST-MODIFIED:20230601T234239Z
UID:10000480-1844096400-1844101800@homicidesurvivorsinc.org
SUMMARY:Grupo de Apoyo
DESCRIPTION:Los grupos de apoyo de Homicide Survivors\, Inc. son para los seres queridos de las víctimas de homicidio\, incluidos los accidentes de conducción en estado de ebriedad y los homicidios sin resolver. Nuestros servicios son gratuitos para los sobrevivientes. \nNuestro grupo de apoyo es en persona. Haga clic en el enlace para registrarse y obtener más información: homicidesurvivorsinc.org/spanish-support-group
URL:https://homicidesurvivorsinc.org/hsi-events/grupo-de-apoyo/2028-06-08/
LOCATION:En Persona
CATEGORIES:Support Group
ATTACH;FMTTYPE=image/jpeg:https://homicidesurvivorsinc.org/wp-content/uploads/2022/10/spanish-in-person-SG-1.jpg
END:VEVENT
BEGIN:VEVENT
DTSTART;TZID=America/Phoenix:20280713T170000
DTEND;TZID=America/Phoenix:20280713T183000
DTSTAMP:20260423T034742
CREATED:20230601T234232Z
LAST-MODIFIED:20230601T234239Z
UID:10000481-1847120400-1847125800@homicidesurvivorsinc.org
SUMMARY:Grupo de Apoyo
DESCRIPTION:Los grupos de apoyo de Homicide Survivors\, Inc. son para los seres queridos de las víctimas de homicidio\, incluidos los accidentes de conducción en estado de ebriedad y los homicidios sin resolver. Nuestros servicios son gratuitos para los sobrevivientes. \nNuestro grupo de apoyo es en persona. Haga clic en el enlace para registrarse y obtener más información: homicidesurvivorsinc.org/spanish-support-group
URL:https://homicidesurvivorsinc.org/hsi-events/grupo-de-apoyo/2028-07-13/
LOCATION:En Persona
CATEGORIES:Support Group
ATTACH;FMTTYPE=image/jpeg:https://homicidesurvivorsinc.org/wp-content/uploads/2022/10/spanish-in-person-SG-1.jpg
END:VEVENT
BEGIN:VEVENT
DTSTART;TZID=America/Phoenix:20280810T170000
DTEND;TZID=America/Phoenix:20280810T183000
DTSTAMP:20260423T034742
CREATED:20230601T234232Z
LAST-MODIFIED:20230601T234239Z
UID:10000482-1849539600-1849545000@homicidesurvivorsinc.org
SUMMARY:Grupo de Apoyo
DESCRIPTION:Los grupos de apoyo de Homicide Survivors\, Inc. son para los seres queridos de las víctimas de homicidio\, incluidos los accidentes de conducción en estado de ebriedad y los homicidios sin resolver. Nuestros servicios son gratuitos para los sobrevivientes. \nNuestro grupo de apoyo es en persona. Haga clic en el enlace para registrarse y obtener más información: homicidesurvivorsinc.org/spanish-support-group
URL:https://homicidesurvivorsinc.org/hsi-events/grupo-de-apoyo/2028-08-10/
LOCATION:En Persona
CATEGORIES:Support Group
ATTACH;FMTTYPE=image/jpeg:https://homicidesurvivorsinc.org/wp-content/uploads/2022/10/spanish-in-person-SG-1.jpg
END:VEVENT
BEGIN:VEVENT
DTSTART;TZID=America/Phoenix:20280914T170000
DTEND;TZID=America/Phoenix:20280914T183000
DTSTAMP:20260423T034742
CREATED:20230601T234232Z
LAST-MODIFIED:20230601T234239Z
UID:10000485-1852563600-1852569000@homicidesurvivorsinc.org
SUMMARY:Grupo de Apoyo
DESCRIPTION:Los grupos de apoyo de Homicide Survivors\, Inc. son para los seres queridos de las víctimas de homicidio\, incluidos los accidentes de conducción en estado de ebriedad y los homicidios sin resolver. Nuestros servicios son gratuitos para los sobrevivientes. \nNuestro grupo de apoyo es en persona. Haga clic en el enlace para registrarse y obtener más información: homicidesurvivorsinc.org/spanish-support-group
URL:https://homicidesurvivorsinc.org/hsi-events/grupo-de-apoyo/2028-09-14/
LOCATION:En Persona
CATEGORIES:Support Group
ATTACH;FMTTYPE=image/jpeg:https://homicidesurvivorsinc.org/wp-content/uploads/2022/10/spanish-in-person-SG-1.jpg
END:VEVENT
BEGIN:VEVENT
DTSTART;TZID=America/Phoenix:20281012T170000
DTEND;TZID=America/Phoenix:20281012T183000
DTSTAMP:20260423T034742
CREATED:20230601T234232Z
LAST-MODIFIED:20230601T234239Z
UID:10000486-1854982800-1854988200@homicidesurvivorsinc.org
SUMMARY:Grupo de Apoyo
DESCRIPTION:Los grupos de apoyo de Homicide Survivors\, Inc. son para los seres queridos de las víctimas de homicidio\, incluidos los accidentes de conducción en estado de ebriedad y los homicidios sin resolver. Nuestros servicios son gratuitos para los sobrevivientes. \nNuestro grupo de apoyo es en persona. Haga clic en el enlace para registrarse y obtener más información: homicidesurvivorsinc.org/spanish-support-group
URL:https://homicidesurvivorsinc.org/hsi-events/grupo-de-apoyo/2028-10-12/
LOCATION:En Persona
CATEGORIES:Support Group
ATTACH;FMTTYPE=image/jpeg:https://homicidesurvivorsinc.org/wp-content/uploads/2022/10/spanish-in-person-SG-1.jpg
END:VEVENT
END:VCALENDAR