BEGIN:VCALENDAR
VERSION:2.0
PRODID:-//Homicide Survivors Inc - ECPv6.15.20//NONSGML v1.0//EN
CALSCALE:GREGORIAN
METHOD:PUBLISH
X-ORIGINAL-URL:https://homicidesurvivorsinc.org
X-WR-CALDESC:Events for Homicide Survivors Inc
REFRESH-INTERVAL;VALUE=DURATION:PT1H
X-Robots-Tag:noindex
X-PUBLISHED-TTL:PT1H
BEGIN:VTIMEZONE
TZID:America/Phoenix
BEGIN:STANDARD
TZOFFSETFROM:-0700
TZOFFSETTO:-0700
TZNAME:MST
DTSTART:20250101T000000
END:STANDARD
END:VTIMEZONE
BEGIN:VEVENT
DTSTART;TZID=America/Phoenix:20260505T180000
DTEND;TZID=America/Phoenix:20260505T193000
DTSTAMP:20260419T163124
CREATED:20230607T193659Z
LAST-MODIFIED:20230607T193700Z
UID:10000137-1778004000-1778009400@homicidesurvivorsinc.org
SUMMARY:Virtual Support Group
DESCRIPTION:At Homicide Survivors\, we are committed to creating a healing space in our support groups. We honor everyone’s journey of hope and healing through their grief. We are respectful in listening\, supporting each other\, and meeting everyone in their healing stage. In this space\, we are mindful of everyone’s privacy and stories. \nHSI support groups are for family and friends who have lost a loved one to murder (including drunk/drugged driving crashes and unsolved homicide cases). \nIf you are a first-time participant\, please click HERE and fill out the form.
URL:https://homicidesurvivorsinc.org/hsi-events/virtual-support-group-2-2/2026-05-05/
LOCATION:Virtual
CATEGORIES:Support Group
ATTACH;FMTTYPE=image/jpeg:https://homicidesurvivorsinc.org/wp-content/uploads/2022/10/virtual-support-group.jpg
END:VEVENT
BEGIN:VEVENT
DTSTART;TZID=America/Phoenix:20260602T180000
DTEND;TZID=America/Phoenix:20260602T193000
DTSTAMP:20260419T163124
CREATED:20230607T193659Z
LAST-MODIFIED:20230607T193700Z
UID:10000138-1780423200-1780428600@homicidesurvivorsinc.org
SUMMARY:Virtual Support Group
DESCRIPTION:At Homicide Survivors\, we are committed to creating a healing space in our support groups. We honor everyone’s journey of hope and healing through their grief. We are respectful in listening\, supporting each other\, and meeting everyone in their healing stage. In this space\, we are mindful of everyone’s privacy and stories. \nHSI support groups are for family and friends who have lost a loved one to murder (including drunk/drugged driving crashes and unsolved homicide cases). \nIf you are a first-time participant\, please click HERE and fill out the form.
URL:https://homicidesurvivorsinc.org/hsi-events/virtual-support-group-2-2/2026-06-02/
LOCATION:Virtual
CATEGORIES:Support Group
ATTACH;FMTTYPE=image/jpeg:https://homicidesurvivorsinc.org/wp-content/uploads/2022/10/virtual-support-group.jpg
END:VEVENT
BEGIN:VEVENT
DTSTART;TZID=America/Phoenix:20260707T180000
DTEND;TZID=America/Phoenix:20260707T193000
DTSTAMP:20260419T163124
CREATED:20230607T193659Z
LAST-MODIFIED:20230607T193700Z
UID:10000139-1783447200-1783452600@homicidesurvivorsinc.org
SUMMARY:Virtual Support Group
DESCRIPTION:At Homicide Survivors\, we are committed to creating a healing space in our support groups. We honor everyone’s journey of hope and healing through their grief. We are respectful in listening\, supporting each other\, and meeting everyone in their healing stage. In this space\, we are mindful of everyone’s privacy and stories. \nHSI support groups are for family and friends who have lost a loved one to murder (including drunk/drugged driving crashes and unsolved homicide cases). \nIf you are a first-time participant\, please click HERE and fill out the form.
URL:https://homicidesurvivorsinc.org/hsi-events/virtual-support-group-2-2/2026-07-07/
LOCATION:Virtual
CATEGORIES:Support Group
ATTACH;FMTTYPE=image/jpeg:https://homicidesurvivorsinc.org/wp-content/uploads/2022/10/virtual-support-group.jpg
END:VEVENT
BEGIN:VEVENT
DTSTART;TZID=America/Phoenix:20260804T180000
DTEND;TZID=America/Phoenix:20260804T193000
DTSTAMP:20260419T163124
CREATED:20230607T193659Z
LAST-MODIFIED:20230607T193700Z
UID:10000140-1785866400-1785871800@homicidesurvivorsinc.org
SUMMARY:Virtual Support Group
DESCRIPTION:At Homicide Survivors\, we are committed to creating a healing space in our support groups. We honor everyone’s journey of hope and healing through their grief. We are respectful in listening\, supporting each other\, and meeting everyone in their healing stage. In this space\, we are mindful of everyone’s privacy and stories. \nHSI support groups are for family and friends who have lost a loved one to murder (including drunk/drugged driving crashes and unsolved homicide cases). \nIf you are a first-time participant\, please click HERE and fill out the form.
URL:https://homicidesurvivorsinc.org/hsi-events/virtual-support-group-2-2/2026-08-04/
LOCATION:Virtual
CATEGORIES:Support Group
ATTACH;FMTTYPE=image/jpeg:https://homicidesurvivorsinc.org/wp-content/uploads/2022/10/virtual-support-group.jpg
END:VEVENT
BEGIN:VEVENT
DTSTART;TZID=America/Phoenix:20260901T180000
DTEND;TZID=America/Phoenix:20260901T193000
DTSTAMP:20260419T163124
CREATED:20230607T193659Z
LAST-MODIFIED:20230607T193700Z
UID:10000141-1788285600-1788291000@homicidesurvivorsinc.org
SUMMARY:Virtual Support Group
DESCRIPTION:At Homicide Survivors\, we are committed to creating a healing space in our support groups. We honor everyone’s journey of hope and healing through their grief. We are respectful in listening\, supporting each other\, and meeting everyone in their healing stage. In this space\, we are mindful of everyone’s privacy and stories. \nHSI support groups are for family and friends who have lost a loved one to murder (including drunk/drugged driving crashes and unsolved homicide cases). \nIf you are a first-time participant\, please click HERE and fill out the form.
URL:https://homicidesurvivorsinc.org/hsi-events/virtual-support-group-2-2/2026-09-01/
LOCATION:Virtual
CATEGORIES:Support Group
ATTACH;FMTTYPE=image/jpeg:https://homicidesurvivorsinc.org/wp-content/uploads/2022/10/virtual-support-group.jpg
END:VEVENT
BEGIN:VEVENT
DTSTART;TZID=America/Phoenix:20261006T180000
DTEND;TZID=America/Phoenix:20261006T193000
DTSTAMP:20260419T163124
CREATED:20230607T193659Z
LAST-MODIFIED:20230607T193700Z
UID:10000142-1791309600-1791315000@homicidesurvivorsinc.org
SUMMARY:Virtual Support Group
DESCRIPTION:At Homicide Survivors\, we are committed to creating a healing space in our support groups. We honor everyone’s journey of hope and healing through their grief. We are respectful in listening\, supporting each other\, and meeting everyone in their healing stage. In this space\, we are mindful of everyone’s privacy and stories. \nHSI support groups are for family and friends who have lost a loved one to murder (including drunk/drugged driving crashes and unsolved homicide cases). \nIf you are a first-time participant\, please click HERE and fill out the form.
URL:https://homicidesurvivorsinc.org/hsi-events/virtual-support-group-2-2/2026-10-06/
LOCATION:Virtual
CATEGORIES:Support Group
ATTACH;FMTTYPE=image/jpeg:https://homicidesurvivorsinc.org/wp-content/uploads/2022/10/virtual-support-group.jpg
END:VEVENT
BEGIN:VEVENT
DTSTART;TZID=America/Phoenix:20261103T180000
DTEND;TZID=America/Phoenix:20261103T193000
DTSTAMP:20260419T163124
CREATED:20230607T193659Z
LAST-MODIFIED:20230607T193700Z
UID:10000143-1793728800-1793734200@homicidesurvivorsinc.org
SUMMARY:Virtual Support Group
DESCRIPTION:At Homicide Survivors\, we are committed to creating a healing space in our support groups. We honor everyone’s journey of hope and healing through their grief. We are respectful in listening\, supporting each other\, and meeting everyone in their healing stage. In this space\, we are mindful of everyone’s privacy and stories. \nHSI support groups are for family and friends who have lost a loved one to murder (including drunk/drugged driving crashes and unsolved homicide cases). \nIf you are a first-time participant\, please click HERE and fill out the form.
URL:https://homicidesurvivorsinc.org/hsi-events/virtual-support-group-2-2/2026-11-03/
LOCATION:Virtual
CATEGORIES:Support Group
ATTACH;FMTTYPE=image/jpeg:https://homicidesurvivorsinc.org/wp-content/uploads/2022/10/virtual-support-group.jpg
END:VEVENT
BEGIN:VEVENT
DTSTART;TZID=America/Phoenix:20261201T180000
DTEND;TZID=America/Phoenix:20261201T193000
DTSTAMP:20260419T163124
CREATED:20230607T193659Z
LAST-MODIFIED:20230607T193700Z
UID:10000144-1796148000-1796153400@homicidesurvivorsinc.org
SUMMARY:Virtual Support Group
DESCRIPTION:At Homicide Survivors\, we are committed to creating a healing space in our support groups. We honor everyone’s journey of hope and healing through their grief. We are respectful in listening\, supporting each other\, and meeting everyone in their healing stage. In this space\, we are mindful of everyone’s privacy and stories. \nHSI support groups are for family and friends who have lost a loved one to murder (including drunk/drugged driving crashes and unsolved homicide cases). \nIf you are a first-time participant\, please click HERE and fill out the form.
URL:https://homicidesurvivorsinc.org/hsi-events/virtual-support-group-2-2/2026-12-01/
LOCATION:Virtual
CATEGORIES:Support Group
ATTACH;FMTTYPE=image/jpeg:https://homicidesurvivorsinc.org/wp-content/uploads/2022/10/virtual-support-group.jpg
END:VEVENT
BEGIN:VEVENT
DTSTART;TZID=America/Phoenix:20270105T180000
DTEND;TZID=America/Phoenix:20270105T193000
DTSTAMP:20260419T163124
CREATED:20230607T193659Z
LAST-MODIFIED:20230607T193700Z
UID:10000145-1799172000-1799177400@homicidesurvivorsinc.org
SUMMARY:Virtual Support Group
DESCRIPTION:At Homicide Survivors\, we are committed to creating a healing space in our support groups. We honor everyone’s journey of hope and healing through their grief. We are respectful in listening\, supporting each other\, and meeting everyone in their healing stage. In this space\, we are mindful of everyone’s privacy and stories. \nHSI support groups are for family and friends who have lost a loved one to murder (including drunk/drugged driving crashes and unsolved homicide cases). \nIf you are a first-time participant\, please click HERE and fill out the form.
URL:https://homicidesurvivorsinc.org/hsi-events/virtual-support-group-2-2/2027-01-05/
LOCATION:Virtual
CATEGORIES:Support Group
ATTACH;FMTTYPE=image/jpeg:https://homicidesurvivorsinc.org/wp-content/uploads/2022/10/virtual-support-group.jpg
END:VEVENT
BEGIN:VEVENT
DTSTART;TZID=America/Phoenix:20270202T180000
DTEND;TZID=America/Phoenix:20270202T193000
DTSTAMP:20260419T163124
CREATED:20230607T193659Z
LAST-MODIFIED:20230607T193700Z
UID:10000146-1801591200-1801596600@homicidesurvivorsinc.org
SUMMARY:Virtual Support Group
DESCRIPTION:At Homicide Survivors\, we are committed to creating a healing space in our support groups. We honor everyone’s journey of hope and healing through their grief. We are respectful in listening\, supporting each other\, and meeting everyone in their healing stage. In this space\, we are mindful of everyone’s privacy and stories. \nHSI support groups are for family and friends who have lost a loved one to murder (including drunk/drugged driving crashes and unsolved homicide cases). \nIf you are a first-time participant\, please click HERE and fill out the form.
URL:https://homicidesurvivorsinc.org/hsi-events/virtual-support-group-2-2/2027-02-02/
LOCATION:Virtual
CATEGORIES:Support Group
ATTACH;FMTTYPE=image/jpeg:https://homicidesurvivorsinc.org/wp-content/uploads/2022/10/virtual-support-group.jpg
END:VEVENT
BEGIN:VEVENT
DTSTART;TZID=America/Phoenix:20270302T180000
DTEND;TZID=America/Phoenix:20270302T193000
DTSTAMP:20260419T163124
CREATED:20230607T193659Z
LAST-MODIFIED:20230607T193700Z
UID:10000147-1804010400-1804015800@homicidesurvivorsinc.org
SUMMARY:Virtual Support Group
DESCRIPTION:At Homicide Survivors\, we are committed to creating a healing space in our support groups. We honor everyone’s journey of hope and healing through their grief. We are respectful in listening\, supporting each other\, and meeting everyone in their healing stage. In this space\, we are mindful of everyone’s privacy and stories. \nHSI support groups are for family and friends who have lost a loved one to murder (including drunk/drugged driving crashes and unsolved homicide cases). \nIf you are a first-time participant\, please click HERE and fill out the form.
URL:https://homicidesurvivorsinc.org/hsi-events/virtual-support-group-2-2/2027-03-02/
LOCATION:Virtual
CATEGORIES:Support Group
ATTACH;FMTTYPE=image/jpeg:https://homicidesurvivorsinc.org/wp-content/uploads/2022/10/virtual-support-group.jpg
END:VEVENT
BEGIN:VEVENT
DTSTART;TZID=America/Phoenix:20270406T180000
DTEND;TZID=America/Phoenix:20270406T193000
DTSTAMP:20260419T163124
CREATED:20230607T193659Z
LAST-MODIFIED:20230607T193700Z
UID:10000148-1807034400-1807039800@homicidesurvivorsinc.org
SUMMARY:Virtual Support Group
DESCRIPTION:At Homicide Survivors\, we are committed to creating a healing space in our support groups. We honor everyone’s journey of hope and healing through their grief. We are respectful in listening\, supporting each other\, and meeting everyone in their healing stage. In this space\, we are mindful of everyone’s privacy and stories. \nHSI support groups are for family and friends who have lost a loved one to murder (including drunk/drugged driving crashes and unsolved homicide cases). \nIf you are a first-time participant\, please click HERE and fill out the form.
URL:https://homicidesurvivorsinc.org/hsi-events/virtual-support-group-2-2/2027-04-06/
LOCATION:Virtual
CATEGORIES:Support Group
ATTACH;FMTTYPE=image/jpeg:https://homicidesurvivorsinc.org/wp-content/uploads/2022/10/virtual-support-group.jpg
END:VEVENT
BEGIN:VEVENT
DTSTART;TZID=America/Phoenix:20270504T180000
DTEND;TZID=America/Phoenix:20270504T193000
DTSTAMP:20260419T163124
CREATED:20230607T193659Z
LAST-MODIFIED:20230607T193700Z
UID:10000149-1809453600-1809459000@homicidesurvivorsinc.org
SUMMARY:Virtual Support Group
DESCRIPTION:At Homicide Survivors\, we are committed to creating a healing space in our support groups. We honor everyone’s journey of hope and healing through their grief. We are respectful in listening\, supporting each other\, and meeting everyone in their healing stage. In this space\, we are mindful of everyone’s privacy and stories. \nHSI support groups are for family and friends who have lost a loved one to murder (including drunk/drugged driving crashes and unsolved homicide cases). \nIf you are a first-time participant\, please click HERE and fill out the form.
URL:https://homicidesurvivorsinc.org/hsi-events/virtual-support-group-2-2/2027-05-04/
LOCATION:Virtual
CATEGORIES:Support Group
ATTACH;FMTTYPE=image/jpeg:https://homicidesurvivorsinc.org/wp-content/uploads/2022/10/virtual-support-group.jpg
END:VEVENT
BEGIN:VEVENT
DTSTART;TZID=America/Phoenix:20270601T180000
DTEND;TZID=America/Phoenix:20270601T193000
DTSTAMP:20260419T163124
CREATED:20230607T193659Z
LAST-MODIFIED:20230607T193700Z
UID:10000150-1811872800-1811878200@homicidesurvivorsinc.org
SUMMARY:Virtual Support Group
DESCRIPTION:At Homicide Survivors\, we are committed to creating a healing space in our support groups. We honor everyone’s journey of hope and healing through their grief. We are respectful in listening\, supporting each other\, and meeting everyone in their healing stage. In this space\, we are mindful of everyone’s privacy and stories. \nHSI support groups are for family and friends who have lost a loved one to murder (including drunk/drugged driving crashes and unsolved homicide cases). \nIf you are a first-time participant\, please click HERE and fill out the form.
URL:https://homicidesurvivorsinc.org/hsi-events/virtual-support-group-2-2/2027-06-01/
LOCATION:Virtual
CATEGORIES:Support Group
ATTACH;FMTTYPE=image/jpeg:https://homicidesurvivorsinc.org/wp-content/uploads/2022/10/virtual-support-group.jpg
END:VEVENT
BEGIN:VEVENT
DTSTART;TZID=America/Phoenix:20270706T180000
DTEND;TZID=America/Phoenix:20270706T193000
DTSTAMP:20260419T163124
CREATED:20230607T193659Z
LAST-MODIFIED:20230607T193700Z
UID:10000151-1814896800-1814902200@homicidesurvivorsinc.org
SUMMARY:Virtual Support Group
DESCRIPTION:At Homicide Survivors\, we are committed to creating a healing space in our support groups. We honor everyone’s journey of hope and healing through their grief. We are respectful in listening\, supporting each other\, and meeting everyone in their healing stage. In this space\, we are mindful of everyone’s privacy and stories. \nHSI support groups are for family and friends who have lost a loved one to murder (including drunk/drugged driving crashes and unsolved homicide cases). \nIf you are a first-time participant\, please click HERE and fill out the form.
URL:https://homicidesurvivorsinc.org/hsi-events/virtual-support-group-2-2/2027-07-06/
LOCATION:Virtual
CATEGORIES:Support Group
ATTACH;FMTTYPE=image/jpeg:https://homicidesurvivorsinc.org/wp-content/uploads/2022/10/virtual-support-group.jpg
END:VEVENT
BEGIN:VEVENT
DTSTART;TZID=America/Phoenix:20270803T180000
DTEND;TZID=America/Phoenix:20270803T193000
DTSTAMP:20260419T163124
CREATED:20230607T193659Z
LAST-MODIFIED:20230607T193700Z
UID:10000152-1817316000-1817321400@homicidesurvivorsinc.org
SUMMARY:Virtual Support Group
DESCRIPTION:At Homicide Survivors\, we are committed to creating a healing space in our support groups. We honor everyone’s journey of hope and healing through their grief. We are respectful in listening\, supporting each other\, and meeting everyone in their healing stage. In this space\, we are mindful of everyone’s privacy and stories. \nHSI support groups are for family and friends who have lost a loved one to murder (including drunk/drugged driving crashes and unsolved homicide cases). \nIf you are a first-time participant\, please click HERE and fill out the form.
URL:https://homicidesurvivorsinc.org/hsi-events/virtual-support-group-2-2/2027-08-03/
LOCATION:Virtual
CATEGORIES:Support Group
ATTACH;FMTTYPE=image/jpeg:https://homicidesurvivorsinc.org/wp-content/uploads/2022/10/virtual-support-group.jpg
END:VEVENT
BEGIN:VEVENT
DTSTART;TZID=America/Phoenix:20270907T180000
DTEND;TZID=America/Phoenix:20270907T193000
DTSTAMP:20260419T163124
CREATED:20230607T193659Z
LAST-MODIFIED:20230607T193700Z
UID:10000153-1820340000-1820345400@homicidesurvivorsinc.org
SUMMARY:Virtual Support Group
DESCRIPTION:At Homicide Survivors\, we are committed to creating a healing space in our support groups. We honor everyone’s journey of hope and healing through their grief. We are respectful in listening\, supporting each other\, and meeting everyone in their healing stage. In this space\, we are mindful of everyone’s privacy and stories. \nHSI support groups are for family and friends who have lost a loved one to murder (including drunk/drugged driving crashes and unsolved homicide cases). \nIf you are a first-time participant\, please click HERE and fill out the form.
URL:https://homicidesurvivorsinc.org/hsi-events/virtual-support-group-2-2/2027-09-07/
LOCATION:Virtual
CATEGORIES:Support Group
ATTACH;FMTTYPE=image/jpeg:https://homicidesurvivorsinc.org/wp-content/uploads/2022/10/virtual-support-group.jpg
END:VEVENT
BEGIN:VEVENT
DTSTART;TZID=America/Phoenix:20271005T180000
DTEND;TZID=America/Phoenix:20271005T193000
DTSTAMP:20260419T163124
CREATED:20230607T193659Z
LAST-MODIFIED:20230607T193700Z
UID:10000154-1822759200-1822764600@homicidesurvivorsinc.org
SUMMARY:Virtual Support Group
DESCRIPTION:At Homicide Survivors\, we are committed to creating a healing space in our support groups. We honor everyone’s journey of hope and healing through their grief. We are respectful in listening\, supporting each other\, and meeting everyone in their healing stage. In this space\, we are mindful of everyone’s privacy and stories. \nHSI support groups are for family and friends who have lost a loved one to murder (including drunk/drugged driving crashes and unsolved homicide cases). \nIf you are a first-time participant\, please click HERE and fill out the form.
URL:https://homicidesurvivorsinc.org/hsi-events/virtual-support-group-2-2/2027-10-05/
LOCATION:Virtual
CATEGORIES:Support Group
ATTACH;FMTTYPE=image/jpeg:https://homicidesurvivorsinc.org/wp-content/uploads/2022/10/virtual-support-group.jpg
END:VEVENT
BEGIN:VEVENT
DTSTART;TZID=America/Phoenix:20271102T180000
DTEND;TZID=America/Phoenix:20271102T193000
DTSTAMP:20260419T163124
CREATED:20230607T193659Z
LAST-MODIFIED:20230607T193700Z
UID:10000155-1825178400-1825183800@homicidesurvivorsinc.org
SUMMARY:Virtual Support Group
DESCRIPTION:At Homicide Survivors\, we are committed to creating a healing space in our support groups. We honor everyone’s journey of hope and healing through their grief. We are respectful in listening\, supporting each other\, and meeting everyone in their healing stage. In this space\, we are mindful of everyone’s privacy and stories. \nHSI support groups are for family and friends who have lost a loved one to murder (including drunk/drugged driving crashes and unsolved homicide cases). \nIf you are a first-time participant\, please click HERE and fill out the form.
URL:https://homicidesurvivorsinc.org/hsi-events/virtual-support-group-2-2/2027-11-02/
LOCATION:Virtual
CATEGORIES:Support Group
ATTACH;FMTTYPE=image/jpeg:https://homicidesurvivorsinc.org/wp-content/uploads/2022/10/virtual-support-group.jpg
END:VEVENT
BEGIN:VEVENT
DTSTART;TZID=America/Phoenix:20271207T180000
DTEND;TZID=America/Phoenix:20271207T193000
DTSTAMP:20260419T163124
CREATED:20230607T193659Z
LAST-MODIFIED:20230607T193700Z
UID:10000156-1828202400-1828207800@homicidesurvivorsinc.org
SUMMARY:Virtual Support Group
DESCRIPTION:At Homicide Survivors\, we are committed to creating a healing space in our support groups. We honor everyone’s journey of hope and healing through their grief. We are respectful in listening\, supporting each other\, and meeting everyone in their healing stage. In this space\, we are mindful of everyone’s privacy and stories. \nHSI support groups are for family and friends who have lost a loved one to murder (including drunk/drugged driving crashes and unsolved homicide cases). \nIf you are a first-time participant\, please click HERE and fill out the form.
URL:https://homicidesurvivorsinc.org/hsi-events/virtual-support-group-2-2/2027-12-07/
LOCATION:Virtual
CATEGORIES:Support Group
ATTACH;FMTTYPE=image/jpeg:https://homicidesurvivorsinc.org/wp-content/uploads/2022/10/virtual-support-group.jpg
END:VEVENT
END:VCALENDAR